BEGIN:VCALENDAR
VERSION:2.0
PRODID:-//TYPO3/NONSGML Calendarize//EN
BEGIN:VEVENT
UID:calendarize-familienfestival-zur-einweihung-der-neuen-freiflaeche-taka
 tukaland
DTSTAMP:20260425T161340Z
DTSTART;VALUE=DATE:20260920
DTEND;VALUE=DATE:20260921
SUMMARY:Familienfestival zur Einweihung der neuen Freifläche TakaTukaLand
DESCRIPTION:
X-ALT-DESC;FMTTYPE=text/html:
LOCATION:
END:VEVENT
END:VCALENDAR
