BEGIN:VCALENDAR
VERSION:2.0
PRODID:-//TYPO3/NONSGML Calendarize//EN
BEGIN:VEVENT
UID:calendarize-fete-de-la-musique-3
DTSTAMP:20260425T120932Z
DTSTART:20260621T120000Z
DTEND:20260621T160000Z
SUMMARY:Fête de la musique
DESCRIPTION:Wie jedes Jahr ist der 21. Juni in Frankreich\, aber auch in v
 ielen anderen Ländern\, der Tag der Fête de la musique. Vor der Maingauh
 alle (bei schlechtem Wetter in der Halle)  wird Life-Musik verschiendenst
 er Richtung angeboten.
X-ALT-DESC;FMTTYPE=text/html:<p>Wie jedes Jahr ist der 21. Juni in Frankre
 ich\, aber auch in vielen anderen Ländern\, der Tag der Fête de la musiq
 ue. Vor der Maingauhalle (bei schlechtem Wetter in der Halle)&nbsp\; wird 
 Life-Musik verschiendenster Richtung angeboten.</p>
LOCATION:
END:VEVENT
END:VCALENDAR
