BEGIN:VCALENDAR
VERSION:2.0
PRODID:-//TYPO3/NONSGML Calendarize//EN
BEGIN:VEVENT
UID:calendarize-spanischer-abend-mit-meike-garden-und-joselo-gonzalez
DTSTAMP:20260425T161048Z
DTSTART:20260925T180000Z
SUMMARY:Spanischer Abend mit Meike Garden und Joselo González
DESCRIPTION:Nähere Infos folgen.
X-ALT-DESC;FMTTYPE=text/html:<p>Nähere Infos folgen.</p>
LOCATION:Maingauhalle Kleinostheim
END:VEVENT
END:VCALENDAR
