BEGIN:VCALENDAR
VERSION:2.0
PRODID:-//TYPO3/NONSGML Calendarize//EN
BEGIN:VEVENT
UID:calendarize-volkstrauertag-20261115
DTSTAMP:20260425T190627Z
DTSTART:20261115T094500Z
SUMMARY:Volkstrauertag
DESCRIPTION:
X-ALT-DESC;FMTTYPE=text/html:
LOCATION:am Ehrenmal an der St.-Laurentius-Kirche
END:VEVENT
END:VCALENDAR
